BEGIN:VCALENDAR
VERSION:2.0
PRODID:-//EYELarp - ECPv6.15.13//NONSGML v1.0//EN
CALSCALE:GREGORIAN
METHOD:PUBLISH
X-WR-CALNAME:EYELarp
X-ORIGINAL-URL:https://eyelarp.com
X-WR-CALDESC:Events for EYELarp
REFRESH-INTERVAL;VALUE=DURATION:PT1H
X-Robots-Tag:noindex
X-PUBLISHED-TTL:PT1H
BEGIN:VTIMEZONE
TZID:UTC
BEGIN:STANDARD
TZOFFSETFROM:+0000
TZOFFSETTO:+0000
TZNAME:UTC
DTSTART:20190101T000000
END:STANDARD
END:VTIMEZONE
BEGIN:VEVENT
DTSTART;TZID=UTC:20201204T210000
DTEND;TZID=UTC:20201206T130000
DTSTAMP:20260420T235024
CREATED:20200909T180937Z
LAST-MODIFIED:20200922T125449Z
UID:9735-1607115600-1607259600@eyelarp.com
SUMMARY:Operation Omega
DESCRIPTION:FilmSim events and Eye LARP proudly presents: \nDropship: Achilles  \nOperation Omega \nDecember 4th – 6th 2020. \nWelsh Drive\, Eversley \nTickets price £75 with a £35 deposit.\nAvailable for 20 players and 20 crew. \n  \n\nThis is the first of many operations that Dropship: Achilles will be running for The Company\, taking the Myrmidons to the outer systems of the Terran Alliance of Planets.\n\n\n \n\n\nThis operation isn’t a simple one but thats what The Company have the Myrmidons for! \n\n\nThe Company have multiple missing personnel\, the Tartarus Group have lost multiple arm shipments and news of outer system rebels causing civil unrest and a high likelihood of civilians in the way of all this mess.\n\n\n \n\n\nThe company want it dealt with cleanly and efficiently and if so\, without getting Myrmidons’\, Civilians’ or The Company’s own blood spilt all over that planet.\n\n\n \n\n\nIt’s going to be a story that will spread across the systems…\n\n\nThe game will run from Friday 4th – Sunday 6th December 2020 \nRegistration will be open from 17:00\, with a safety and game brief will be at 20:00 \nTime in will be:\n21:00 till 01:30 Friday\,\n10:00 till 01:30 Saturday\,\nAnd 10:00 till 13:00 Sunday \n  \n 
URL:https://eyelarp.com/event/operation-omega/
LOCATION:Gunman Airsoft Eversley Alpha\, The Welsh Drive\, Fleet Road\, Eversley\, Hampshire\, RG27 0QB\, United Kingdom
CATEGORIES:Filmsim
END:VEVENT
END:VCALENDAR