BEGIN:VCALENDAR
VERSION:2.0
PRODID:-//EYELarp - ECPv6.15.13//NONSGML v1.0//EN
CALSCALE:GREGORIAN
METHOD:PUBLISH
X-ORIGINAL-URL:https://eyelarp.com
X-WR-CALDESC:Events for EYELarp
REFRESH-INTERVAL;VALUE=DURATION:PT1H
X-Robots-Tag:noindex
X-PUBLISHED-TTL:PT1H
BEGIN:VTIMEZONE
TZID:UTC
BEGIN:STANDARD
TZOFFSETFROM:+0000
TZOFFSETTO:+0000
TZNAME:UTC
DTSTART:20200101T000000
END:STANDARD
END:VTIMEZONE
BEGIN:VEVENT
DTSTART;TZID=UTC:20210625T140000
DTEND;TZID=UTC:20210627T140000
DTSTAMP:20260420T133345
CREATED:20210506T144248Z
LAST-MODIFIED:20210506T145316Z
UID:10238-1624629600-1624802400@eyelarp.com
SUMMARY:Dropship Achilles: Operation Upsilon
DESCRIPTION:FilmSim events and Eye LARP proudly presents: \nDropship: Achilles  \nOperation Upsilon \nJune 25th – 27th 2020. \nWelsh Drive\, Eversley \nOnly 30 Crew tickets available \n  \n\nDropship: Achilles will be taking the Myrmidons to the Scorpius System\, a star system newly acquired by Typhon Industrials whose testimonial-laden commercials have brought millions to its moons and planets seeking employment and the promise of a new life. Renowned for its fascinating vegetation perfect for farming\, and abundant mineral deposits granting great mining opportunities\, Typhon Industrials has become the leading employer of the frontier miners and settlers in the system.\n\n\n \n\n\n\nOperation Upsilon – The Stag.\n\n\nThe operation is a simple escort mission: The company are lending the Myrmidons to a Typhon science team looking into a newly discovered mineral that could prove to be a valuable fuel source.\nThe primary directive is to maintain the safety of the scientists while they go about their duties.\nThe secondary directive is to maintain the peace with the local populace.\n\n\nMr Jones\, a company asset\, will be there to supervise\, but the operation is being run by a civilian –  Dr M Bright\, a leading petrologist with Typhon Industrials. To get paid\, the Myrmidons will not only have to keep the Company happy\, but keep the civilians on side…\n\n\n\n\nThe game will run from Friday 25th – Sunday 27th June 2021 \nRegistration will be open from 17:00\, with a safety and game brief will be at 20:00 \nTime in will be:\n21:00 till 01:00 Friday\,\n10:00 till 01:00 Saturday\,\nAnd 10:00 till 13:00 Sunday
URL:https://eyelarp.com/event/dropship-achilles-operation-upsilon/
LOCATION:Gunman Airsoft Eversley Alpha\, The Welsh Drive\, Fleet Road\, Eversley\, Hampshire\, RG27 0QB\, United Kingdom
CATEGORIES:Dropship: Achilles
END:VEVENT
END:VCALENDAR