BEGIN:VCALENDAR
VERSION:2.0
PRODID:-//EYELarp - ECPv6.15.13//NONSGML v1.0//EN
CALSCALE:GREGORIAN
METHOD:PUBLISH
X-ORIGINAL-URL:https://eyelarp.com
X-WR-CALDESC:Events for EYELarp
REFRESH-INTERVAL;VALUE=DURATION:PT1H
X-Robots-Tag:noindex
X-PUBLISHED-TTL:PT1H
BEGIN:VTIMEZONE
TZID:UTC
BEGIN:STANDARD
TZOFFSETFROM:+0000
TZOFFSETTO:+0000
TZNAME:UTC
DTSTART:20200101T000000
END:STANDARD
END:VTIMEZONE
BEGIN:VEVENT
DTSTART;TZID=UTC:20210709T140000
DTEND;TZID=UTC:20210711T130000
DTSTAMP:20260420T115334
CREATED:20201007T133327Z
LAST-MODIFIED:20210617T115810Z
UID:9840-1625839200-1626008400@eyelarp.com
SUMMARY:Gulag: Eagle Thirteen - Waypoint Two
DESCRIPTION:FilmSim events and Eye LARP proudly presents: \nGulag: Eagle Thirteen  \nWaypoint Two \nJuly 9th – 11th 2021. \nFleet Road\, Eversley \nAlpha. \nTickets price £75 for the Early Bird with a £35 deposit until the 17th June 2020.\nPlease see booking details below.\nAvailable for 40 players and 20 crew. \n  \nStory So Far \nSO\, the survivors did their tasks and to my surprise did them well and with that where given the coordinates to Waypoint Two\, There was only one death\, a thief that stole from the hand that was given shelter. Like I said\, and I Igor will say again\, follow the rules of the Baltic Bloc or get feed to the crows. \nNow that Waypoint one seems a long time ago to all these little bits of crow feed who are heading to Waypoint Two\, once again split up and with out help must still watch-out for the blooms for they are still seeming to be getting heavier\, the area becoming more active with all sorts of life\, including the closing and locking up of Baltic Bloc areas and of course this new spore\, one that even caught out some harden Rangers of the Baltic Bloc. \nAnd if you don’t know what I’m talking about well.. look out-for the purple spores. \nGood luck and hopefully you find more of my notes\nIgor\, Ranger of the Baltic Block\n\n\n———————————————————————————————————————————————— \nThe game will run from Friday 8th – Sunday 10th January\, 2021 \nRegistration will be open from 17:00\, with a safety and game brief will be at 20:00 \nTime in will be:\n21:00 till 01:30 Friday\,\n10:00 till 01:30 Saturday\,\nAnd 10:00 till 13:00 Sunday \nFeel free to join the Gulag: Eagle Thirteen Facebook group: Gulag: Eagle Thirteen 
URL:https://eyelarp.com/event/gulag-eagle-thirteen-waypoint-two/
LOCATION:Gunman Airsoft Eversley Alpha\, The Welsh Drive\, Fleet Road\, Eversley\, Hampshire\, RG27 0QB\, United Kingdom
CATEGORIES:Gulag Eagle 13
END:VEVENT
END:VCALENDAR