BEGIN:VCALENDAR
VERSION:2.0
PRODID:-//EYELarp - ECPv6.15.13//NONSGML v1.0//EN
CALSCALE:GREGORIAN
METHOD:PUBLISH
X-ORIGINAL-URL:https://eyelarp.com
X-WR-CALDESC:Events for EYELarp
REFRESH-INTERVAL;VALUE=DURATION:PT1H
X-Robots-Tag:noindex
X-PUBLISHED-TTL:PT1H
BEGIN:VTIMEZONE
TZID:UTC
BEGIN:STANDARD
TZOFFSETFROM:+0000
TZOFFSETTO:+0000
TZNAME:UTC
DTSTART:20200101T000000
END:STANDARD
END:VTIMEZONE
BEGIN:VEVENT
DTSTART;TZID=UTC:20210813T140000
DTEND;TZID=UTC:20210815T140000
DTSTAMP:20260420T101253
CREATED:20200219T180036Z
LAST-MODIFIED:20210727T134629Z
UID:8805-1628863200-1629036000@eyelarp.com
SUMMARY:Buccaneers Of The Damned - Episode 16: Reprisal
DESCRIPTION:FilmSim events and Eye LARP proudly presents a Kitty Dobson & Co production: \nBuccaneers Of The Damned  \nEpisode 16: Reprisal \nAugust 13th – 15th  2021. \nWelsh Drive\, Eversley \nTickets price £75 for the Early Bird with a £35 deposit until the 10th July 2021.\nTicket Price from the 11th July 2020 will be £85 with a £45 deposit.\nPlease see booking details below.\nCapped at 40 players and 30 crew. \nStory So Far \nMonths have passed since the Crews of Logans Bay left Salvation and the rest of the Colonial Archipelago in their wake for the possibility of a free life\, and a new free port in Frontier. They now must decide what to do next… \nA story was told to them\, by both the tribes of the Hugantii and Tuatha. A legend was passed on\, which may have raised more questions than it answered. Hook\, Pan and Heron; three names familiar to those who have been washed up on these waters\, and three names that the Frontier folk know too. Answers were sought – a cave\, filled with carvings and potent with visions of its past\, unfortunately destroyed by the scientific brotherhood of the Collegium of Lisbon\, also seeking its knowledge for their own ends. \nOne place is left that may have what they need – the Temple of the Crocodile. But will it offer them a way out… or simply the end? \n———————————————————————————————————————————————— \nThe game will run from Friday 13th – Sunday 15th August 2021 \nRegistration will be open from 17:00\, with a safety and game brief will be at 20:00 \nTime in will be:\n21:00 till 01:30 Friday\,\n10:00 till 01:30 Saturday\,\nAnd 10:00 till 13:00 Sunday \nFeel free to join the Buccaneers Of The Damned closed facebook page Buccaneers Of The Damned
URL:https://eyelarp.com/event/buccaneers-of-the-damned-episode-16-reprisal/
LOCATION:Gunman Airsoft Eversley Alpha\, The Welsh Drive\, Fleet Road\, Eversley\, Hampshire\, RG27 0QB\, United Kingdom
CATEGORIES:Buccaneers of the Damned
END:VEVENT
END:VCALENDAR