BEGIN:VCALENDAR
VERSION:2.0
PRODID:-//EYELarp - ECPv6.15.13//NONSGML v1.0//EN
CALSCALE:GREGORIAN
METHOD:PUBLISH
X-ORIGINAL-URL:https://eyelarp.com
X-WR-CALDESC:Events for EYELarp
REFRESH-INTERVAL;VALUE=DURATION:PT1H
X-Robots-Tag:noindex
X-PUBLISHED-TTL:PT1H
BEGIN:VTIMEZONE
TZID:UTC
BEGIN:STANDARD
TZOFFSETFROM:+0000
TZOFFSETTO:+0000
TZNAME:UTC
DTSTART:20200101T000000
END:STANDARD
END:VTIMEZONE
BEGIN:VEVENT
DTSTART;TZID=UTC:20210924T140000
DTEND;TZID=UTC:20210926T140000
DTSTAMP:20260420T083915
CREATED:20210715T123319Z
LAST-MODIFIED:20210715T123319Z
UID:10781-1632492000-1632664800@eyelarp.com
SUMMARY:Dropship Achilles: Episode 2 - Operation Beta
DESCRIPTION:FilmSim events and Eye LARP proudly presents: \nDropship: Achilles \nEpisode 2: Operation Beta \n“The Call” \nSeptember  24th – 26th 2021. \nTickets price £75 for the Early Bird with a £35 deposit until the 15th August 2021.\nTicket Price from the 16th August 2021 will be £85 with a £45 deposit.\nPlease see booking details below.\nCapped at 30 players and 30 crew. \nWelsh Drive\, Eversley \nDropship: Achilles will be taking the Myrmidons to an unknown location –  \nThe Company\, unimpressed with the outcome of Operation Upsilon with its many civilian casualties\, loss of multiple Company assets\, Typhon personnel\, the insubordination of multiple Myrmidons and their lack of professional conduct as a soldier of fortune.  \nThey have issued incentives to all ex and serving Myrmidons to report to the Achilles for company instruction. The Company has never offered such incentives in living memory\, so even other Myrmidons from the other Dropships have taken them up on the promise of a fortune in credits for two days of… rehabilitation. \n—————————————————————————————————————————————– \nThe game will run from Friday 24th – Sunday 26th September 2021 \nRegistration will be open from 17:00\, with a safety and game brief will be at 20:00 \nTime in will be:\n21:00 till 01:00 Friday\,\n10:00 till 01:00 Saturday\,\nAnd 10:00 till 13:00 Sunday
URL:https://eyelarp.com/event/dropship-achilles-episode-2-operation-beta/
LOCATION:Gunman Airsoft Eversley Alpha\, The Welsh Drive\, Fleet Road\, Eversley\, Hampshire\, RG27 0QB\, United Kingdom
CATEGORIES:Dropship: Achilles
END:VEVENT
END:VCALENDAR