BEGIN:VCALENDAR
VERSION:2.0
PRODID:-//EYELarp - ECPv6.15.13//NONSGML v1.0//EN
CALSCALE:GREGORIAN
METHOD:PUBLISH
X-ORIGINAL-URL:https://eyelarp.com
X-WR-CALDESC:Events for EYELarp
REFRESH-INTERVAL;VALUE=DURATION:PT1H
X-Robots-Tag:noindex
X-PUBLISHED-TTL:PT1H
BEGIN:VTIMEZONE
TZID:UTC
BEGIN:STANDARD
TZOFFSETFROM:+0000
TZOFFSETTO:+0000
TZNAME:UTC
DTSTART:20210101T000000
END:STANDARD
END:VTIMEZONE
BEGIN:VEVENT
DTSTART;TZID=UTC:20220429T210000
DTEND;TZID=UTC:20220501T130000
DTSTAMP:20260419T181025
CREATED:20220110T183025Z
LAST-MODIFIED:20220112T160432Z
UID:12079-1651266000-1651410000@eyelarp.com
SUMMARY:Second Breakfast - Run One
DESCRIPTION:FilmSim events and Eye LARP proudly presents a Kitty Dobson production: \nSecond Breakfast \nRun One: 29th April – 1st May 2022 \nGunman Airsoft Eversley\, Welsh Drive\, Eversley \nTickets are priced at £105 for the Early Bird with a £55 deposit until the 8th February 2022.\nTicket Price from the 9th February will be £115 with a £65 deposit.\nThe remaining balance of £50 is due at registration on the Friday of the event.\nPlease see booking details below.\nCapped at 50 players per run of the game. \n  \n———————————————————————————————————————————————— \nThe games will run from Friday 29th of April to Sunday 1st of May\, and the 3rd to the 5th of June 2022. \nTickets for Run Two are available here \nRegistration will be open from 17:00\, with a safety and game brief at 20:00.\nFeel free to arrive any time Friday to set up. \nTime in will be:\n21:00 till 01:30 Friday\,\n10:00 till 01:30 Saturday\,\nAnd 10:00 till 13:00 Sunday \nFeel free to join the Second Breakfast Facebook group: Second Breakfast \nPlease also fill out this form once your deposit is booked so we can begin the process of character generation
URL:https://eyelarp.com/event/second-breakfast-run-one/
LOCATION:Gunman Airsoft Eversley Alpha\, The Welsh Drive\, Fleet Road\, Eversley\, Hampshire\, RG27 0QB\, United Kingdom
CATEGORIES:Second Breakfast
END:VEVENT
END:VCALENDAR