BEGIN:VCALENDAR
VERSION:2.0
PRODID:-//EYELarp - ECPv6.15.13//NONSGML v1.0//EN
CALSCALE:GREGORIAN
METHOD:PUBLISH
X-ORIGINAL-URL:https://eyelarp.com
X-WR-CALDESC:Events for EYELarp
REFRESH-INTERVAL;VALUE=DURATION:PT1H
X-Robots-Tag:noindex
X-PUBLISHED-TTL:PT1H
BEGIN:VTIMEZONE
TZID:UTC
BEGIN:STANDARD
TZOFFSETFROM:+0000
TZOFFSETTO:+0000
TZNAME:UTC
DTSTART:20210101T000000
END:STANDARD
END:VTIMEZONE
BEGIN:VEVENT
DTSTART;TZID=UTC:20220527T140000
DTEND;TZID=UTC:20220529T140000
DTSTAMP:20260419T181026
CREATED:20220119T134412Z
LAST-MODIFIED:20220119T211102Z
UID:12193-1653660000-1653832800@eyelarp.com
SUMMARY:Legio SPQR - Episode 3:  An Ornament and a Safeguard
DESCRIPTION:FilmSim events and Eye LARP proudly presents a  Kitty Dobson production: \nLegio SPQR \nEpisode 3:  \nMay 27th – 29th 2021. \nWelsh Drive\, Eversley \nTickets price £105 for with a £55 deposit until the 16th February 2022.\nTicket Price from the 17th February 2022 will be £115 with a £65 deposit.\nPlease see booking details below.\nCapped at 40 players and 40 crew. \nThis is a catered game – a simple lunch and dinner is provided in-game on the Saturday\nBreakfast is served both Saturday and Sunday mornings before time-in\nMore information on dietary options will be available closer to the event. \nStory So Far \nFresh from light duties in the region of Narbo\, and dealing with the corrupt Lanista Septimus\, many of the Eleventh Auxillary cohort of the Twelfth Legion Fulminata are glad to receive orders to march north to the simpler politics of the soldier’s life – gladius in one hand\, scutum in the other. \nGeneral Caesar has subdued all of Gaul\, subdued that is\, bar a few outposts who are proving… difficult. \nOne such region is Uxellodunum\, province of the Cadurci tribe. Although barely a stone’s throw from the Roman Provinces of southern Gaul\, the terrain has made it impossible for the legions to simply march in and do what they do best. The Duranus river surrounds three sides\, a mountainside the fourth\, and the Legatus in command is doggedly keeping them penned in\, but rumour is he at a loss against these Gauls who seem to need for nothing inside their keep. \nThe orders from Legatus Gaius Caninius Rebilus are simple. The Eleventh will march north from Narbo and prevent reinforcements reaching the siege from other rebels in the foothills of the Pyrenees. Commandeer the fortress of Sotium and be ready for further orders. \nThe Hound of Alesia has barked\, and the Eleventh had better answer.
URL:https://eyelarp.com/event/legio-spqr-episode-3-an-ornament-and-a-safeguard/
LOCATION:Gunman Airsoft Eversley Alpha\, The Welsh Drive\, Fleet Road\, Eversley\, Hampshire\, RG27 0QB\, United Kingdom
CATEGORIES:Legio SPQR
END:VEVENT
END:VCALENDAR