BEGIN:VCALENDAR
VERSION:2.0
PRODID:-//EYELarp - ECPv6.15.13//NONSGML v1.0//EN
CALSCALE:GREGORIAN
METHOD:PUBLISH
X-ORIGINAL-URL:https://eyelarp.com
X-WR-CALDESC:Events for EYELarp
REFRESH-INTERVAL;VALUE=DURATION:PT1H
X-Robots-Tag:noindex
X-PUBLISHED-TTL:PT1H
BEGIN:VTIMEZONE
TZID:UTC
BEGIN:STANDARD
TZOFFSETFROM:+0000
TZOFFSETTO:+0000
TZNAME:UTC
DTSTART:20210101T000000
END:STANDARD
END:VTIMEZONE
BEGIN:VEVENT
DTSTART;TZID=UTC:20220617T173000
DTEND;TZID=UTC:20220619T140000
DTSTAMP:20260419T163305
CREATED:20220525T143436Z
LAST-MODIFIED:20220525T145012Z
UID:13235-1655487000-1655647200@eyelarp.com
SUMMARY:Nerds Vs Geeks: Big Weekender - Jewelled June
DESCRIPTION:Nerds Vs Geeks Presents \nBig Weekender \nJewelled June  \nJune 17th – 19th 2022. \nGunman Airsoft Camp Bravo\, Eversley \nTickets priced at £25 for the weekend \n£15 for the Saturday \nA Full weekend of endless gaming with a returning the NVG painting competition\, in which any ticket holder can enter and vote in. The category is titled Jewelled we want to see your entries shine – The winner will be decided by a blind billing vote the person with the most votes wins and winning means prizes.\n\nWhat is included:\n20 gaming tables set to a high standard\, free camping\, open fires and BBQs allowed.\nFree tea and Coffee all weekend.\nJust eat delivery available.\nToilets on site\n\nWhat you will need to bring:\nCamping equipment\, food\, drinking water and all your nerdy & geekness.
URL:https://eyelarp.com/event/nerds-vs-geeks-big-weekender-jewelled-june/
LOCATION:Camp Bravo\, Camp Bravo\, Eversley\, Hampshire\, RG27 0PY\, United Kingdom
CATEGORIES:Nerd Vs Geeks
END:VEVENT
END:VCALENDAR