BEGIN:VCALENDAR
VERSION:2.0
PRODID:-//EYELarp - ECPv6.15.13//NONSGML v1.0//EN
CALSCALE:GREGORIAN
METHOD:PUBLISH
X-ORIGINAL-URL:https://eyelarp.com
X-WR-CALDESC:Events for EYELarp
REFRESH-INTERVAL;VALUE=DURATION:PT1H
X-Robots-Tag:noindex
X-PUBLISHED-TTL:PT1H
BEGIN:VTIMEZONE
TZID:UTC
BEGIN:STANDARD
TZOFFSETFROM:+0000
TZOFFSETTO:+0000
TZNAME:UTC
DTSTART:20210101T000000
END:STANDARD
END:VTIMEZONE
BEGIN:VEVENT
DTSTART;TZID=UTC:20220722T140000
DTEND;TZID=UTC:20220724T140000
DTSTAMP:20260419T143158
CREATED:20220309T115716Z
LAST-MODIFIED:20220309T115716Z
UID:12552-1658498400-1658671200@eyelarp.com
SUMMARY:Dropship Achilles: Operation Rho
DESCRIPTION:FilmSim events and Eye LARP proudly presents: \nDropship: Achilles \nEpisode 4: Operation Rho \n“Hydra” \n22nd- 24th July 2022 \nTickets price £85 for the Early Bird with a £45 part payment until the 6th April 2022. \nTicket Price from the 7th April 2022 will be £95 with a £55 part-payment. \nPlease see booking details below. \nCapped at 40 players and 40 crew. \nGunman Airsoft – Eversley Alpha\, \nThe Welsh Dr\, Eversley\, Hook RG27 0QB \n  \nThe Company sent Dropship Achilles to the Grus system to track down two notorious members of the Juunishi Yakuza who have climbed rapidly in the hierarchy of the organisation\, making their way to Kyodai – “Big Brothers”. \nThe Mission was a great success\, not only did the Myrmidons of the Achilles gather the intel that has put the Big Brothers on the run they also stopped a devastating terrorist attack that would have ripped the Grus system to the core and would have rippled across the Milky way; that the Juunishi had a working weapon that would break planets.\n\nThe operation being such a major achievement\, The Company have decided to give the Myrmidons an extra weekend of leave on a small recently terraformed moon in the Aquarius System – not much more than a hovel in space but it’s got a bar with good moonshine.    \n—————————————————————————————————————————————– \nThe game will run from Friday 22nd – Sunday 24th July 2022 \nRegistration will be open from 17:00\, with a safety and game brief will be at 20:00 \nTime in will be: \n21:00 till 01:00 Friday\, \n10:00 till 01:00 Saturday\, \nAnd 10:00 till 13:00 Sunday
URL:https://eyelarp.com/event/dropship-achilles-operation-rho/
LOCATION:Gunman Airsoft Eversley Alpha\, The Welsh Drive\, Fleet Road\, Eversley\, Hampshire\, RG27 0QB\, United Kingdom
CATEGORIES:Dropship: Achilles
END:VEVENT
END:VCALENDAR