BEGIN:VCALENDAR
VERSION:2.0
PRODID:-//EYELarp - ECPv6.15.13//NONSGML v1.0//EN
CALSCALE:GREGORIAN
METHOD:PUBLISH
X-WR-CALNAME:EYELarp
X-ORIGINAL-URL:https://eyelarp.com
X-WR-CALDESC:Events for EYELarp
REFRESH-INTERVAL;VALUE=DURATION:PT1H
X-Robots-Tag:noindex
X-PUBLISHED-TTL:PT1H
BEGIN:VTIMEZONE
TZID:UTC
BEGIN:STANDARD
TZOFFSETFROM:+0000
TZOFFSETTO:+0000
TZNAME:UTC
DTSTART:20220101T000000
END:STANDARD
END:VTIMEZONE
BEGIN:VEVENT
DTSTART;TZID=UTC:20231013T140000
DTEND;TZID=UTC:20231015T140000
DTSTAMP:20260419T143039
CREATED:20230517T164547Z
LAST-MODIFIED:20230517T164548Z
UID:15630-1697205600-1697378400@eyelarp.com
SUMMARY:The Five Kingdoms - Season 2\, Episode 6: A Gathering of Spheres
DESCRIPTION:FilmSim events and Eye LARP proudly presents a Johnathan Fisher & Chris Thomas production: \nThe Five Kingdoms \nSeason 2 \nEpisode 6: A Gathering Of Spheres \nOctober 13th – 15th 2023. \nWelsh Drive\, Eversley \nTickets price £85 for the Early Bird with a £45 part-payment until the 14th June 2022. \nTicket Price from the 15th June 2022 will be £95 with a £55 part-payment. \nPlease see booking details below. \nCapped at 60 players and 40 crew. \nStory So Far \nA year and a season since the tenth anniversary of relighting the Urn of Seragol. \nAn unlikely ally has made themself known to the heroes of Harker’s Lodge – a Black Hand Sergeant looking to clear up the issues of some of the more overtly zealous commanders and corrupt members of the Hand. They have other like-minded members wishing to end the havoc reaping through the Old Forest. \nBanditry is now running fully rampant; the Pilfering Knave with all their thieves and brigands holds much of the roads out of the Five Kingdoms to the Old Forest\, and seemingly does not care for the regards of the other Bandit Princes or deals with the Merchants Guild. The Guild pushes for more to be done but the Ba’moorian exile The Reaver makes war inside the walls of the Five Kingdoms. It is luck more than sound judgement if you manage to get to Harker’s Lodge and the Urn without seeing evidence of banditry\, be it the aftermath or facing a spear point yourself. \nBut banditry isn’t something the heroes of Harker’s lodge had in their sights; the name Leomass was spreading\, talks of his weapons coming back to the Five Kingdoms in greater numbers than ever and hushed whispers of their power growing. The dead not staying dead\, mutalited souls forced into bodies\, the Soul Sea but a trickle allowing no rest for those who fall. \nThe Heroes found a way of ripping a portal open into the Soul Sea\, ending the blight of wandering dead and dark spirits but at what cost? With rumours spreading that one of Harker’s Lodge’s own has been found guilty of practicing a banned sphere\, though Josef of the Silver Hills\, Master Rune Smith\, Interim Alderman of Harkers Lodge\, and his rangers stamp out any such whispers with calm authority and reason\, plus a few favours here and there. \nNow the people of the Five Kingdoms sit and wait to see what news comes from the Old Forest and Harker’s Lodge. \n———————————————————————————————————————————————— \nThe game will run from Friday 13th October – Sunday 15th October 2023 \nRegistration will be open from 17:00\, with a safety and game brief will be at 20:00 \nTime in will be: \n21:00 till 01:00 Friday\, \n10:00 till 01:00 Saturday\, \nAnd 10:00 till 13:00 Sunday \nFeel free to join the The Five Kingdoms facebook page The Five Kingdoms
URL:https://eyelarp.com/event/the-five-kingdoms-season-2-episode-6-a-gathering-of-spheres/
LOCATION:Gunman Airsoft Eversley Alpha\, The Welsh Drive\, Fleet Road\, Eversley\, Hampshire\, RG27 0QB\, United Kingdom
CATEGORIES:Five Kingdoms
END:VEVENT
END:VCALENDAR