BEGIN:VCALENDAR
VERSION:2.0
PRODID:-//EYELarp - ECPv6.15.13//NONSGML v1.0//EN
CALSCALE:GREGORIAN
METHOD:PUBLISH
X-WR-CALNAME:EYELarp
X-ORIGINAL-URL:https://eyelarp.com
X-WR-CALDESC:Events for EYELarp
REFRESH-INTERVAL;VALUE=DURATION:PT1H
X-Robots-Tag:noindex
X-PUBLISHED-TTL:PT1H
BEGIN:VTIMEZONE
TZID:UTC
BEGIN:STANDARD
TZOFFSETFROM:+0000
TZOFFSETTO:+0000
TZNAME:UTC
DTSTART:20220101T000000
END:STANDARD
END:VTIMEZONE
BEGIN:VEVENT
DTSTART;TZID=UTC:20231027T140000
DTEND;TZID=UTC:20231029T140000
DTSTAMP:20260419T142956
CREATED:20230719T155038Z
LAST-MODIFIED:20240828T122749Z
UID:16181-1698415200-1698588000@eyelarp.com
SUMMARY:HADES 2.0 - Episode 2: Crucible Blues
DESCRIPTION:FilmSim events and EYELarp proudly presents a Judas Game production: \nHADES 2.0  \nEpisode 2: Crucible Blues\n \nOctober 27th – 29th 2023. \nWelsh Drive\, Eversley \nTickets priced at £90 for the Early Bird with a £50 part-payment \nPlease see booking details below.\nTickets capped at 40 players\nCrew is via Invite – if you are interested\, please get in touch at judasgameslarp@hotmail.com \n———————————————————————————————————————————————— \nThe game will run from Friday 28th October – Sunday 30th October 2022 \nRegistration will be open from 18:00\, with a safety and game brief will be at 20:00 \nTime in will be: \n21:00 till 01:00 Friday\, \n10:00 till 01:00 Saturday\, \nAnd 10:00 till 13:00 Sunday \n  \nFeel free to join the HADES Facebook page here
URL:https://eyelarp.com/event/crucibleblues/
LOCATION:Gunman Airsoft Eversley Alpha\, The Welsh Drive\, Fleet Road\, Eversley\, Hampshire\, RG27 0QB\, United Kingdom
CATEGORIES:HADES
END:VEVENT
END:VCALENDAR