BEGIN:VCALENDAR
VERSION:2.0
PRODID:-//EYELarp - ECPv6.15.13//NONSGML v1.0//EN
CALSCALE:GREGORIAN
METHOD:PUBLISH
X-ORIGINAL-URL:https://eyelarp.com
X-WR-CALDESC:Events for EYELarp
REFRESH-INTERVAL;VALUE=DURATION:PT1H
X-Robots-Tag:noindex
X-PUBLISHED-TTL:PT1H
BEGIN:VTIMEZONE
TZID:UTC
BEGIN:STANDARD
TZOFFSETFROM:+0000
TZOFFSETTO:+0000
TZNAME:UTC
DTSTART:20200101T000000
END:STANDARD
END:VTIMEZONE
BEGIN:VEVENT
DTSTART;TZID=UTC:20210806T140000
DTEND;TZID=UTC:20210808T140000
DTSTAMP:20260420T083802
CREATED:20200401T143916Z
LAST-MODIFIED:20210726T201052Z
UID:9461-1628258400-1628431200@eyelarp.com
SUMMARY:Legio SPQR -  Episode 2: Bread and Circuses
DESCRIPTION:FilmSim events and Eye LARP proudly presents a  Kitty Dobson production: \nLegio SPQR \nEpisode 2: Bread and Circuses \nAugust 6th – 8th 2021. \nWelsh Drive\, Eversley \nTickets price £95 for with a £55 deposit until the 24th July 2021.\nTicket Price from the 25th July 2021 will be £105 with a £65 deposit.\nPlease see booking details below.\nCapped at 30 players and 30 crew. \nStory So Far \nSummer 51BC. \n\nThe power struggle in Rome continues between Pompey Magnus\, Consul of Rome\, and Julius Caesar\, Governor of four provinces and Commander of four legions. \nThe Triumvirate died two years previously with Crassus and Julia; The former\, the patron and counterbalance for his two colleagues\, and latter; daughter of Caesar and wife of Pompey who smoothed over their relationship in the eyes of the plebeians and patricians alike. Without them\, Rome is in the hands of two men whose ambitions no longer align. Civil war may be on the horizon\, but for the time being politics is played with the gain of land and resources\, not Roman blood. \nNarbo; a town of little consequence to the senate\, yet at the crossroads of the Via Aquitainia and Via Domitia\, the first Roman road to cross Gaul. While nearby Marseilles receives the patronage of Pompey Magnus\, Narbo is now the home of veterans of the 10th Legion\, settled there by Julius Caesar. It is a town on the up\, or so Caesar is betting. All it needs is bread and circuses and the provincials will be cheering his name – circuses provided by a new Ludus set up by the lifelong friend of Tribune Tarquinius – Agrippina Maxima. \nA perfect place to resupply after a challenging few months on campaign in Gaul – and perhaps a perfect opportunity to raise the profile of the XIII in the eyes of Caesar. \n________________________ \nThe second (official) instalment of Legio: SPQR will be set six months after their snowy expedition to Gaul. As Legionnaires\, all players will be expected to work together to set up camp\, keep everyone fed and watered and take up whatever duties the legion requires. Simple and hearty in-character food is included in the ticket price\, and we will have a tavern operating in the town of Narbo with some provincial drinks (a keg of ale)\, and you are welcome to bring your tipple of choice to put behind the bar. \nDeath on campaign is frequent and medicine rudimentary\, but the XIII Auxiliaries are always recruiting. We do not have bead pulls or death counts in this system; we expect players to go by the rule of cool\, fight cinematically and give game to healers. Death is a massive part of the Roman world. If your character is injured beyond their ability to continue service or is killed on campaign\, choose a new province of the empire and rejoin – it’s very simple! \n\n  \n———————————————————————————————————————————————— \nThe game will run from Friday August 6th – Sunday 8th August 2021 \nRegistration will be open from 17:00\, with a safety and game brief will be at 20:00 \nTime in will be:\n21:00 till 01:30 Friday\,\n10:00 till 01:30 Saturday\,\nAnd 10:00 till 13:00 Sunday \nFeel free to join the Legio SPQR Facebook group: Legio SPQR
URL:https://eyelarp.com/event/legio-spqr-episode-2-bread-and-circuses/
LOCATION:Gunman Airsoft Eversley Alpha\, The Welsh Drive\, Fleet Road\, Eversley\, Hampshire\, RG27 0QB\, United Kingdom
CATEGORIES:Legio SPQR
END:VEVENT
BEGIN:VEVENT
DTSTART;TZID=UTC:20210807T210000
DTEND;TZID=UTC:20210809T210000
DTSTAMP:20260420T083802
CREATED:20200302T174030Z
LAST-MODIFIED:20220110T182300Z
UID:9035-1628370000-1628542800@eyelarp.com
SUMMARY:Second Breakfast
DESCRIPTION:FilmSim events and Eye LARP proudly presents a Kitty Dobson production: \nSecond Breakfast \nRun One: 29th April – 1st May 2022 \nRun Two: 3rd – 5th June 2022 \nGunman Airsoft Eversley\, Welsh Drive\, Eversley \nTickets are priced at £105 for the Early Bird with a £55 deposit until the 1st April 2020.\nTicket Price from the 2nd April 2020 will be £115 with a £65 deposit.\nThe remaining balance of £50 is due at registration on the Friday of the event.\nPlease see booking details below.\nCapped at 50 players per run of the game. \n  \n———————————————————————————————————————————————— \nThe games will run from Friday 29th of April to Sunday 1st of May\, and the 3rd to the 5th of June 2022. \nRegistration will be open from 17:00\, with a safety and game brief at 20:00.\nFeel free to arrive any time Friday to set up. \nTime in will be:\n21:00 till 01:30 Friday\,\n10:00 till 01:30 Saturday\,\nAnd 10:00 till 13:00 Sunday \nFeel free to join the Second Breakfast Facebook group: Second Breakfast \nPlease also fill out this form once your deposit is booked so we can begin the process of character generation
URL:https://eyelarp.com/event/second-breakfast/
LOCATION:Gunman Airsoft Eversley Alpha\, The Welsh Drive\, Fleet Road\, Eversley\, Hampshire\, RG27 0QB\, United Kingdom
CATEGORIES:Second Breakfast
END:VEVENT
BEGIN:VEVENT
DTSTART;TZID=UTC:20210813T140000
DTEND;TZID=UTC:20210815T140000
DTSTAMP:20260420T083802
CREATED:20200219T180036Z
LAST-MODIFIED:20210727T134629Z
UID:8805-1628863200-1629036000@eyelarp.com
SUMMARY:Buccaneers Of The Damned - Episode 16: Reprisal
DESCRIPTION:FilmSim events and Eye LARP proudly presents a Kitty Dobson & Co production: \nBuccaneers Of The Damned  \nEpisode 16: Reprisal \nAugust 13th – 15th  2021. \nWelsh Drive\, Eversley \nTickets price £75 for the Early Bird with a £35 deposit until the 10th July 2021.\nTicket Price from the 11th July 2020 will be £85 with a £45 deposit.\nPlease see booking details below.\nCapped at 40 players and 30 crew. \nStory So Far \nMonths have passed since the Crews of Logans Bay left Salvation and the rest of the Colonial Archipelago in their wake for the possibility of a free life\, and a new free port in Frontier. They now must decide what to do next… \nA story was told to them\, by both the tribes of the Hugantii and Tuatha. A legend was passed on\, which may have raised more questions than it answered. Hook\, Pan and Heron; three names familiar to those who have been washed up on these waters\, and three names that the Frontier folk know too. Answers were sought – a cave\, filled with carvings and potent with visions of its past\, unfortunately destroyed by the scientific brotherhood of the Collegium of Lisbon\, also seeking its knowledge for their own ends. \nOne place is left that may have what they need – the Temple of the Crocodile. But will it offer them a way out… or simply the end? \n———————————————————————————————————————————————— \nThe game will run from Friday 13th – Sunday 15th August 2021 \nRegistration will be open from 17:00\, with a safety and game brief will be at 20:00 \nTime in will be:\n21:00 till 01:30 Friday\,\n10:00 till 01:30 Saturday\,\nAnd 10:00 till 13:00 Sunday \nFeel free to join the Buccaneers Of The Damned closed facebook page Buccaneers Of The Damned
URL:https://eyelarp.com/event/buccaneers-of-the-damned-episode-16-reprisal/
LOCATION:Gunman Airsoft Eversley Alpha\, The Welsh Drive\, Fleet Road\, Eversley\, Hampshire\, RG27 0QB\, United Kingdom
CATEGORIES:Buccaneers of the Damned
END:VEVENT
BEGIN:VEVENT
DTSTART;TZID=UTC:20210827T140000
DTEND;TZID=UTC:20210829T140000
DTSTAMP:20260420T083802
CREATED:20200318T121719Z
LAST-MODIFIED:20210820T180148Z
UID:9277-1630072800-1630245600@eyelarp.com
SUMMARY:Flying Lead: Smoke & Brass - Episode 4: The Hierophant
DESCRIPTION:FilmSim events and Eye LARP proudly presents a Johnny Fisher & Kitty Dobson production: \nFlying Lead: Smoke & Brass \nEpisode 4: The Hierophant \nAugust 27th – 29th 2021. \nWelsh Drive\, Eversley \nAll tickets from the 2020 date have been transferred to this date and it is currently sold out.\nCapped at 50 players and 40 crew. \nStory So Far \nIt’s been three months since the hanging of the legendary outlaw Henry King. Plenty has happened in the better part of 1880: Botched hangings; gruesome murders; an all out attack from Confederate sympathisers; fireworks and a mayoral election which saw a gunsmith by the name of Jack Carson become the new Mayor of Juno Valley. His main aim is to bring justice to the valley with the promise of cheaper munitions\, better rewards for bounties\, giving the sheriff and the good people of the valley better ways to defend themselves and scrapping the Rileys’ Tax. \nHis first three months have been pretty uneventful\, with the occasional run in with the Rileys but they are quick dispatched due to Carson’s focus on justice. \nBut what the people of Juno Valley know is uneventful don’t mean a damn thing – cause it’s always the quietest before the storm. \nGood Mayor Carson invites the people of Juno Valley to come a celebrate the end of the harvest and Allhallowtide \n  \n———————————————————————————————————————————————— \nThe game will run from Friday 27th-29th August 2021 \nRegistration will be open from 17:00\, with a safety and game brief will be at 20:00 \nTime in will be:\n21:00 till 01:30 Friday\,\n10:00 till 01:30 Saturday\,\nAnd 10:00 till 13:00 Sunday \nFeel free to join the Flying Lead: Smoke & Brass Facebook group: Smoke & Brass
URL:https://eyelarp.com/event/flying-lead-smoke-brass-episode-4-the-hierophant/
LOCATION:Gunman Airsoft Eversley Alpha\, The Welsh Drive\, Fleet Road\, Eversley\, Hampshire\, RG27 0QB\, United Kingdom
CATEGORIES:Flying Lead: Smoke & Brass
END:VEVENT
END:VCALENDAR