BEGIN:VCALENDAR
VERSION:2.0
PRODID:-//EYELarp - ECPv6.15.13//NONSGML v1.0//EN
CALSCALE:GREGORIAN
METHOD:PUBLISH
X-ORIGINAL-URL:https://eyelarp.com
X-WR-CALDESC:Events for EYELarp
REFRESH-INTERVAL;VALUE=DURATION:PT1H
X-Robots-Tag:noindex
X-PUBLISHED-TTL:PT1H
BEGIN:VTIMEZONE
TZID:UTC
BEGIN:STANDARD
TZOFFSETFROM:+0000
TZOFFSETTO:+0000
TZNAME:UTC
DTSTART:20210101T000000
END:STANDARD
END:VTIMEZONE
BEGIN:VEVENT
DTSTART;TZID=UTC:20220121T140000
DTEND;TZID=UTC:20220123T140000
DTSTAMP:20260419T233249
CREATED:20211110T171158Z
LAST-MODIFIED:20211110T171203Z
UID:11428-1642773600-1642946400@eyelarp.com
SUMMARY:Gulag: Eagle Thirteen - Waypoint Three
DESCRIPTION:FilmSim events and Eye LARP proudly presents: \nGulag: Eagle Thirteen  \nWaypoint Three \nJanuary 21st – 23rd 2022. \nGunman Airsoft Camp Bravo\,\nA327 Fleet Road\,\nEversley \nTickets priced at £85 for the Early Bird with a £45 part-payment until the 8th December 2021.\nTickets priced at £95 with a £55 part-payment from the 9th December 2021\nPlease see booking details below.\nAvailable for 40 players and 25 crew. \nStory So Far \nWell done! You’ve been given the whereabouts of Waypoint Three – I can tell by the crows and pests that it hasn’t been an easy journey for you. Stories come to my ears of Bloomers being lead by a larger more intelligent one! Sounds to me mother nature has got her own Pied Piper. \nI say don’t be heroes\, just get on with your chores\, focus on surviving  and being the best you can be for the Baltic Block to accept you and get you sent to Waypoint 4. \nIgor will give you some free advice. Waypoint 3 is a Hub for trade but not all deals are good deals. \nGood luck and remember the rules\, my little survivors and crow feed. \nIgor\, Ranger of the Baltic Block\n\n\n———————————————————————————————————————————————— \nThe game will run from Friday 21st – Sunday 23rd January\, 2022 \nRegistration will be open from 17:00\, with a safety and game brief at 20:00 \nTime in will be:\n21:00 till 01:30 Friday\,\n10:00 till 01:30 Saturday\,\nAnd 10:00 till 13:00 Sunday \nThis event will be held at Gunman Airsoft Eversley Camp Bravo – the sister site to Eversley Alpha which is the home of EYE Larp and location of the last two Gulag events.\nIt is situated off the A327\, next door to the self-storage business. Take the turn off for “Leisure Matters”\, and follow the signs for “Camp Bravo” to find the correct car park. The site office is located just beyond the car park\, next to white marquees and a green container. \nFeel free to join the Gulag: Eagle Thirteen Facebook group: Gulag: Eagle Thirteen  \n\n\n 
URL:https://eyelarp.com/event/gulag-eagle-thirteen-waypoint-three/
LOCATION:Camp Bravo\, Camp Bravo\, Eversley\, Hampshire\, RG27 0PY\, United Kingdom
CATEGORIES:Gulag Eagle 13
END:VEVENT
END:VCALENDAR