BEGIN:VCALENDAR
VERSION:2.0
PRODID:-//EYELarp - ECPv6.15.13//NONSGML v1.0//EN
CALSCALE:GREGORIAN
METHOD:PUBLISH
X-ORIGINAL-URL:https://eyelarp.com
X-WR-CALDESC:Events for EYELarp
REFRESH-INTERVAL;VALUE=DURATION:PT1H
X-Robots-Tag:noindex
X-PUBLISHED-TTL:PT1H
BEGIN:VTIMEZONE
TZID:UTC
BEGIN:STANDARD
TZOFFSETFROM:+0000
TZOFFSETTO:+0000
TZNAME:UTC
DTSTART:20210101T000000
END:STANDARD
END:VTIMEZONE
BEGIN:VEVENT
DTSTART;TZID=UTC:20220201T193000
DTEND;TZID=UTC:20220331T000000
DTSTAMP:20260419T215043
CREATED:20211220T175343Z
LAST-MODIFIED:20220106T123711Z
UID:11781-1643743800-1648684800@eyelarp.com
SUMMARY:EyeLarp's 2022 Calendar
DESCRIPTION:Wall calendars for 2022 are now available! \nFeaturing over 80 photographs from our wonderful media partners Emma Stanton and Harry Bryce of Gorgon Photography and Oliver Facey\, these A4 calendars were designed by Kitty and are printed on high-quality 150gsm silk paper by our friends at Cleddau Press. \nOur 2022 events calendar is listed throughout\, with each month displaying shots of players and crew at one of our games. \nWe have an initial print run of 50 ready to be sent out\, and any purchased before the 29th should receive their copy before the end of 2021. \nThe price of £15 includes postage and packaging to addresses in the UK and Ireland.
URL:https://eyelarp.com/event/eyelarps-2022-calendar/
LOCATION:Hampshire
END:VEVENT
BEGIN:VEVENT
DTSTART;TZID=UTC:20220211T140000
DTEND;TZID=UTC:20220213T140000
DTSTAMP:20260419T215043
CREATED:20211124T153039Z
LAST-MODIFIED:20211124T153039Z
UID:11673-1644588000-1644760800@eyelarp.com
SUMMARY:Dropship Achilles: Operation Psi
DESCRIPTION:FilmSim events and Eye LARP proudly presents: \nDropship: Achilles \nEpisode 3: Operation Psi \n“Shinigami” \n11th-13th February 2022 \nTickets price £85 for the Early Bird with a £45 part payment until the 22nd December 2021.\nTicket Price from the 23rd December 2021 will be £95 with a £45 part-payment.\nPlease see booking details below.\nCapped at 40 players and 40 crew. \nGunman Airsoft Battle Lakes\,\nCourt Lodge Down\, Hawkenbury Rd\, Bells Yew Green\, Tunbridge Wells TN3 9AP \n  \nAfter the carnage of Fang 4 in the Scorpius System\, the Company “invited” all those Myrmidons involved to a mandatory skills “retreat” at an undisclosed base in the central cluster to remind them what it means to be a Myrmidon: a soldier of fortune without scruples who carries out orders unquestioningly. \nThere were some shining stars among the ranks and some who have… a little more to learn. The notes included the words “lacklustre” and “a danger to themselves and the image of the company” between redactions… But the exercises where cut short due to the works of the Juunishi Yakuza who thought it would be a lucrative time to not only start a prison barge breakout by dropping it out the skies\, but also to test a dirty bomb on a populated back-water planet\, with Dropship Achilles the closest that could be called on. In an act of extreme valor. the Myrmidons thwarted not only the prison break but also the bomb. \n\nFor the Company this blatant act of terrorism was very much outside the wheel house of the Juunishi\, who focused most their efforts on extortion\, money-laundering\, prostitution\, gambling\, trafficking in drugs and weapons\, the more sophisticated white-collar crimes\, when not working as guns for hire for other branches of the cartel – making them usually an excellent pool of potential Myrmidons for Company recruiters. \nThe Company have sent Dropship Achilles to the Grus system to track down a two notorious members of the Juunishi Yakuza who have climbed rapid in the hierarchy of the organisation\, making their way to Kyodai – “Big Brothers”. \nThe Mission is: find intel on their location\, any acts terrorism and arms deals\, with the possibility of engaging in ops to grab and stop the Juunishi before their next big hit. \n—————————————————————————————————————————————– \nThe game will run from Friday 11th – Sunday 13th February 2022 \nRegistration will be open from 17:00\, with a safety and game brief will be at 20:00 \nTime in will be:\n21:00 till 01:00 Friday\,\n10:00 till 01:00 Saturday\,\nAnd 10:00 till 13:00 Sunday
URL:https://eyelarp.com/event/dropship-achilles-operation-psi/
LOCATION:Gunman Airsoft Battle Lakes\, Court Lodge Down\, Hawkenbury Rd\, Bells Yew Green\,\, Tunbridge Wells\, Kent\, TN3 9AP\, United Kingdom
CATEGORIES:Dropship: Achilles
END:VEVENT
BEGIN:VEVENT
DTSTART;TZID=UTC:20220218T163000
DTEND;TZID=UTC:20220220T163000
DTSTAMP:20260419T215043
CREATED:20220117T160403Z
LAST-MODIFIED:20220117T160403Z
UID:12161-1645201800-1645374600@eyelarp.com
SUMMARY:Nerds Vs Geeks: Big Weekender - Fabulous February
DESCRIPTION:Nerds Vs Geeks Presents \nBig Weekender \nFabulous February  \nFebruary 18th – 20th 2022. \nGunman Airsoft Camp Bravo\, Eversley \nTickets priced at £25 for the weekend \n£15 for the Saturday \nA Full weekend of endless gaming including our first NVG painting competition\, in which any ticket holder can enter and vote in. The category is titled FABULOUS – The winner will be decided by a blind billing vote the person with the most votes wins and winning means prizes.\n\nWhat is included:\n20 gaming tables set to a high standard\, free camping\, open fires and BBQs allowed.\nFree tea and Coffee all weekend.\nJust eat delivery available.\nToilets on site\n\nWhat you will need to bring:\nCamping equipment\, food\, drinking water and all your nerdy geekness.
URL:https://eyelarp.com/event/nerds-vs-geeks-big-weekender-fabulous-february/
LOCATION:Camp Bravo\, Camp Bravo\, Eversley\, Hampshire\, RG27 0PY\, United Kingdom
CATEGORIES:Nerd Vs Geeks
END:VEVENT
END:VCALENDAR